View In:
ArcGIS JavaScript
ArcGIS Online Map Viewer
ArcGIS Earth
ArcGIS Pro
Service Description: <DIV STYLE="text-align:Left;font-size:12pt"><DIV><P><SPAN>Street Improvements polygons (Curb, gutter, s/w, landscape, pavement, median), tiled, local projection</SPAN></P></DIV></DIV>
Map Name: StreetImprovementsPolygon
Legend
All Layers and Tables
Dynamic Legend
Dynamic All Layers
Layers:
Description: Street Improvements polygons (Curb, gutter, s/w, landscape, pavement, median), tiled, local projection
Service Item Id: 40c34dbc2ac341f89ec2469470dade66
Copyright Text:
Spatial Reference:
102643
(2227)
LatestVCSWkid(0)
Single Fused Map Cache: true
Tile Info:
- Height: 256
- Width: 256
- DPI: 96
-
Levels of Detail: 19
-
Level ID: 0
[ Start Tile, End Tile ]
- Resolution: 956420.9010381275
- Scale: 1.1017990815940862E9
-
Level ID: 1
[ Start Tile, End Tile ]
- Resolution: 478210.45051906374
- Scale: 5.508995407970431E8
-
Level ID: 2
[ Start Tile, End Tile ]
- Resolution: 239105.22525953187
- Scale: 2.7544977039852154E8
-
Level ID: 3
[ Start Tile, End Tile ]
- Resolution: 119552.61262976594
- Scale: 1.3772488519926077E8
-
Level ID: 4
[ Start Tile, End Tile ]
- Resolution: 59776.30631488297
- Scale: 6.886244259963039E7
-
Level ID: 5
[ Start Tile, End Tile ]
- Resolution: 29888.153157441484
- Scale: 3.443122129981519E7
-
Level ID: 6
[ Start Tile, End Tile ]
- Resolution: 14944.076578720742
- Scale: 1.7215610649907596E7
-
Level ID: 7
[ Start Tile, End Tile ]
- Resolution: 7472.038289360371
- Scale: 8607805.324953798
-
Level ID: 8
[ Start Tile, End Tile ]
- Resolution: 3736.0191446801855
- Scale: 4303902.662476899
-
Level ID: 9
[ Start Tile, End Tile ]
- Resolution: 1868.0095723400927
- Scale: 2151951.3312384496
-
Level ID: 10
[ Start Tile, End Tile ]
- Resolution: 934.0047861700464
- Scale: 1075975.6656192248
-
Level ID: 11
[ Start Tile, End Tile ]
- Resolution: 467.0023930850232
- Scale: 537987.8328096124
-
Level ID: 12
[ Start Tile, End Tile ]
- Resolution: 233.5011965425116
- Scale: 268993.9164048062
-
Level ID: 13
[ Start Tile, End Tile ]
- Resolution: 116.7505982712558
- Scale: 134496.9582024031
-
Level ID: 14
[ Start Tile, End Tile ]
- Resolution: 58.3752991356279
- Scale: 67248.47910120155
-
Level ID: 15
[ Start Tile, End Tile ]
- Resolution: 29.18764956781395
- Scale: 33624.239550600774
-
Level ID: 16
[ Start Tile, End Tile ]
- Resolution: 14.593824783906975
- Scale: 16812.119775300387
-
Level ID: 17
[ Start Tile, End Tile ]
- Resolution: 7.296912391953487
- Scale: 8406.059887650194
-
Level ID: 18
[ Start Tile, End Tile ]
- Resolution: 3.6484561959767436
- Scale: 4203.029943825097
- Format: PNG
- Compression Quality: 0.0
- Origin: X: -1.1586020866621366E8
Y: 1.1150148230421728E8
- Spatial Reference: 102643
(2227)
LatestVCSWkid(0)
Storage Info:
- Storage Format: esriMapCacheStorageModeCompactV2
- Packet Size: 128
Initial Extent:
XMin: 6069238.062944189
YMin: 1989139.617226027
XMax: 6077358.029814713
YMax: 1994227.7963293567
Spatial Reference: 102643
(2227)
LatestVCSWkid(0)
Full Extent:
XMin: 6056395.630205467
YMin: 1978083.7401223183
XMax: 6089327.816309467
YMax: 2008411.6509230733
Spatial Reference: 102643
(2227)
LatestVCSWkid(0)
Units: esriFeet
Supported Image Format Types: PNG32,PNG24,PNG,JPG,DIB,TIFF,EMF,PS,PDF,GIF,SVG,SVGZ,BMP
Document Info:
Title: Street Improvement Polygons
Author:
Comments: Street Improvements polygons (Curb, gutter, s/w, landscape, pavement, median), tiled, local projection
Subject: Street Improvements
Category:
Keywords: Menlo Park,San Mateo County,Street Improvements
AntialiasingMode: Fast
TextAntialiasingMode: Force
Supports Dynamic Layers: true
Resampling: false
MaxRecordCount: 2000
MaxImageHeight: 4096
MaxImageWidth: 4096
Supported Query Formats: JSON, geoJSON, PBF
Supports Query Data Elements: true
Min Scale: 67248.47910120155
Max Scale: 4203.029943825097
Min LOD: 14
Max LOD: 18
Supports Datum Transformation: true
Child Resources:
Info
Dynamic Layer
Supported Operations:
Export Map
Identify
QueryLegends
QueryDomains
Find
Return Updates