View In:
ArcGIS JavaScript
ArcGIS Online Map Viewer
ArcGIS Earth
Service Description: Nearmap2024
Name: Nearmap2024
Description:
Single Fused Map Cache: false
Extent:
XMin: 6047516.313286886
YMin: 1956876.8075004076
XMax: 6114585.822540521
YMax: 2029830.6565561416
Spatial Reference: 102643
(2227)
LatestVCSWkid(0)
Initial Extent:
XMin: 6047516.313286886
YMin: 1956876.8075004076
XMax: 6114585.822540521
YMax: 2029830.6565561416
Spatial Reference: 102643
(2227)
LatestVCSWkid(0)
Full Extent:
XMin: 6047516.313286886
YMin: 1956876.8075004076
XMax: 6114585.822540521
YMax: 2029830.6565561416
Spatial Reference: 102643
(2227)
LatestVCSWkid(0)
Pixel Size X: 0.2534932941278288
Pixel Size Y: 0.25349329400798487
Band Count: 3
Pixel Type: U8
RasterFunction Infos: {"rasterFunctionInfos": [{
"name": "None",
"description": "",
"help": ""
}]}
Mensuration Capabilities: Basic
Inspection Capabilities:
Has Histograms: true
Has Colormap: false
Has Multi Dimensions : false
Rendering Rule:
Min Scale: 0
Max Scale: 0
Copyright Text:
Service Data Type: esriImageServiceDataTypeRGB
Min Values: 0, 0, 0
Max Values: 255, 255, 255
Mean Values: 105.23239532396326, 103.58208407323829, 93.72213061577905
Standard Deviation Values: 49.322485448470694, 45.11790461418668, 43.933342193137186
Object ID Field:
Fields:
None
Default Mosaic Method: Center
Allowed Mosaic Methods:
SortField:
SortValue: null
Mosaic Operator: First
Default Compression Quality: 75
Default Resampling Method: Bilinear
Max Record Count: null
Max Image Height: 4100
Max Image Width: 15000
Max Download Image Count: null
Max Mosaic Image Count: null
Allow Raster Function: true
Allow Copy: true
Allow Analysis: true
Allow Compute TiePoints: false
Supports Statistics: false
Supports Advanced Queries: false
Use StandardizedQueries: true
Raster Type Infos:
Name: Raster Dataset
Description: Supports all ArcGIS Raster Datasets
Help:
Has Raster Attribute Table: false
Edit Fields Info: null
Ownership Based AccessControl For Rasters: null
Child Resources:
Info
Histograms
Statistics
Key Properties
Legend
Raster Function Infos
Supported Operations:
Export Image
Identify
Measure
Compute Histograms
Compute Statistics Histograms
Get Samples
Compute Class Statistics
Query Boundary
Compute Pixel Location
Compute Angles
Validate
Project