{
 "currentVersion": 11.2,
 "cimVersion": "3.2.0",
 "serviceDescription": " Building Outlines, Public Facilities, Fire Stations. Buildings come from different sources: Digitized from orthos ca 2015, Belle Haven planimetric survey ca 2000, San Mateo County GIS (LiDAR(?)) 2020.<\/span><\/p><\/div><\/div><\/div>",
 "mapName": "Buildings",
 "description": "Building Outlines, Public Facilities, Fire Stations. Buildings come from different sources: Digitized from orthos ca 2015, Belle Haven planimetric survey ca 2000, San Mateo County GIS (LiDAR(?)) 2020.",
 "copyrightText": "",
 "supportsDynamicLayers": true,
 "layers": [
  {
   "id": 0,
   "name": "Facilities (Point)",
   "parentLayerId": -1,
   "defaultVisibility": true,
   "subLayerIds": null,
   "minScale": 100000,
   "maxScale": 0,
   "type": "Feature Layer",
   "geometryType": "esriGeometryPoint",
   "supportsDynamicLegends": true
  },
  {
   "id": 1,
   "name": "Fire Stations",
   "parentLayerId": -1,
   "defaultVisibility": true,
   "subLayerIds": null,
   "minScale": 100000,
   "maxScale": 0,
   "type": "Feature Layer",
   "geometryType": "esriGeometryPoint",
   "supportsDynamicLegends": true
  },
  {
   "id": 2,
   "name": "Facilities (Fences, Striping, etc.)",
   "parentLayerId": -1,
   "defaultVisibility": true,
   "subLayerIds": null,
   "minScale": 4800,
   "maxScale": 0,
   "type": "Feature Layer",
   "geometryType": "esriGeometryPolyline",
   "supportsDynamicLegends": true
  },
  {
   "id": 3,
   "name": "Buildings",
   "parentLayerId": -1,
   "defaultVisibility": true,
   "subLayerIds": null,
   "minScale": 100000,
   "maxScale": 0,
   "type": "Feature Layer",
   "geometryType": "esriGeometryPolygon",
   "supportsDynamicLegends": true
  },
  {
   "id": 4,
   "name": "Facilities (Parking, Sports Fields, etc)",
   "parentLayerId": -1,
   "defaultVisibility": true,
   "subLayerIds": null,
   "minScale": 4800,
   "maxScale": 0,
   "type": "Feature Layer",
   "geometryType": "esriGeometryPolygon",
   "supportsDynamicLegends": true
  },
  {
   "id": 5,
   "name": "Lakes",
   "parentLayerId": -1,
   "defaultVisibility": true,
   "subLayerIds": null,
   "minScale": 100000,
   "maxScale": 0,
   "type": "Feature Layer",
   "geometryType": "esriGeometryPolygon",
   "supportsDynamicLegends": true
  }
 ],
 "tables": [],
 "spatialReference": {
  "wkid": 102643,
  "latestWkid": 2227,
  "xyTolerance": 0.003280833333333333,
  "zTolerance": 0.001,
  "mTolerance": 0.001,
  "falseX": -115860600,
  "falseY": -93269500,
  "xyUnits": 3.678742734568671E7,
  "falseZ": -100000,
  "zUnits": 10000,
  "falseM": -100000,
  "mUnits": 10000
 },
 "singleFusedMapCache": true,
 "tileInfo": {
  "rows": 256,
  "cols": 256,
  "dpi": 96,
  "format": "PNG",
  "compressionQuality": 0,
  "origin": {
   "x": -115860600,
   "y": 151575000
  },
  "spatialReference": {
   "wkid": 102643,
   "latestWkid": 2227,
   "vcsWkid": 105703,
   "latestVcsWkid": 6360,
   "xyTolerance": 0.003280833333333333,
   "zTolerance": 2,
   "mTolerance": 0.001,
   "falseX": -115860600,
   "falseY": -93269500,
   "xyUnits": 3.678742734568671E7,
   "falseZ": 0,
   "zUnits": 1,
   "falseM": -100000,
   "mUnits": 10000
  },
  "lods": [
   {
    "level": 0,
    "resolution": 108.50694444444444,
    "scale": 125000
   },
   {
    "level": 1,
    "resolution": 55.55555555555555,
    "scale": 64000
   },
   {
    "level": 2,
    "resolution": 27.777777777777775,
    "scale": 32000
   },
   {
    "level": 3,
    "resolution": 13.888888888888888,
    "scale": 16000
   },
   {
    "level": 4,
    "resolution": 6.944444444444444,
    "scale": 8000
   },
   {
    "level": 5,
    "resolution": 3.472222222222222,
    "scale": 4000
   },
   {
    "level": 6,
    "resolution": 1.736111111111111,
    "scale": 2000
   },
   {
    "level": 7,
    "resolution": 0.8680555555555555,
    "scale": 1000
   },
   {
    "level": 8,
    "resolution": 0.43402777777777773,
    "scale": 500
   },
   {
    "level": 9,
    "resolution": 0.21701388888888887,
    "scale": 250
   }
  ]
 },
 "storageInfo": {
  "storageFormat": "esriMapCacheStorageModeCompactV2",
  "packetSize": 128
 },
 "initialExtent": {
  "xmin": 6078229.779068511,
  "ymin": 1994497.6481851502,
  "xmax": 6081350.628006445,
  "ymax": 1996802.3635150064,
  "spatialReference": {
   "wkid": 102643,
   "latestWkid": 2227,
   "xyTolerance": 0.003280833333333333,
   "zTolerance": 0.001,
   "mTolerance": 0.001,
   "falseX": -115860600,
   "falseY": -93269500,
   "xyUnits": 3.678742734568671E7,
   "falseZ": -100000,
   "zUnits": 10000,
   "falseM": -100000,
   "mUnits": 10000
  }
 },
 "fullExtent": {
  "xmin": 6053489.861707403,
  "ymin": 1976370.1884782207,
  "xmax": 6091510.695040737,
  "ymax": 2005154.9107004427,
  "spatialReference": {
   "wkid": 102643,
   "latestWkid": 2227,
   "xyTolerance": 0.003280833333333333,
   "zTolerance": 0.001,
   "mTolerance": 0.001,
   "falseX": -115860600,
   "falseY": -93269500,
   "xyUnits": 3.678742734568671E7,
   "falseZ": -100000,
   "zUnits": 10000,
   "falseM": -100000,
   "mUnits": 10000
  }
 },
 "datesInUnknownTimezone": false,
 "minScale": 125000,
 "maxScale": 250,
 "minLOD": 0,
 "maxLOD": 9,
 "units": "esriFeet",
 "supportedImageFormatTypes": "PNG32,PNG24,PNG,JPG,DIB,TIFF,EMF,PS,PDF,GIF,SVG,SVGZ,BMP",
 "documentInfo": {
  "Title": "Buildings",
  "Author": "",
  "Comments": "Building Outlines, Public Facilities, Fire Stations. Buildings come from different sources: Digitized from orthos ca 2015, Belle Haven planimetric survey ca 2000, San Mateo County GIS (LiDAR(?)) 2020.",
  "Subject": "Building Outlines, Public Facilities, Fire Stations",
  "Category": "",
  "Version": "3.2.0",
  "AntialiasingMode": "Fast",
  "TextAntialiasingMode": "Force",
  "Keywords": "Buildings,City of Menlo Park,San Mateo County"
 },
 "supportsQueryDomains": true,
 "capabilities": "Map,Query,Data",
 "supportedQueryFormats": "JSON, geoJSON, PBF",
 "hasVersionedData": true,
 "exportTilesAllowed": true,
 "maxExportTilesCount": 100000,
 "referenceScale": 0.0,
 "supportsDatumTransformation": true,
 "floorAwareMapProperties": {
  "defaultFloorFilterSettings": {
   "isEnabled": false
  }
 },
 "archivingInfo": {
  "supportsHistoricMoment": false
 },
 "supportsClipping": true,
 "supportsSpatialFilter": true,
 "supportsTimeRelation": true,
 "supportsQueryDataElements": true,
 "mapUnits": {
  "uwkid": 9003
 },
 "maxRecordCount": 2000,
 "maxImageHeight": 4096,
 "maxImageWidth": 4096,
 "supportedExtensions": "",
 "resampling": false,
 "serviceItemId": "4024b796190c4fa096eb8a17b6a43503"
}
