{
 "currentVersion": 11.2,
 "cimVersion": "3.2.0",
 "serviceDescription": "GCS_NAD_1983_NSRS2007\nWKID: 4759 Authority: EPSG",
 "mapName": "Flood Areas (2019)",
 "description": "GCS_NAD_1983_NSRS2007\nWKID: 4759 Authority: EPSG",
 "copyrightText": "",
 "supportsDynamicLayers": true,
 "layers": [
  {
   "id": 0,
   "name": "City Boundaries",
   "parentLayerId": -1,
   "defaultVisibility": true,
   "subLayerIds": null,
   "minScale": 200000,
   "maxScale": 0,
   "type": "Feature Layer",
   "geometryType": "esriGeometryPolygon",
   "supportsDynamicLegends": true
  },
  {
   "id": 1,
   "name": "Station Benchmark",
   "parentLayerId": -1,
   "defaultVisibility": true,
   "subLayerIds": null,
   "minScale": 200000,
   "maxScale": 0,
   "type": "Feature Layer",
   "geometryType": "esriGeometryPoint",
   "supportsDynamicLegends": true
  },
  {
   "id": 2,
   "name": "Base Flood Elevation (BFE)",
   "parentLayerId": -1,
   "defaultVisibility": true,
   "subLayerIds": null,
   "minScale": 200000,
   "maxScale": 0,
   "type": "Feature Layer",
   "geometryType": "esriGeometryPolyline",
   "supportsDynamicLegends": true
  },
  {
   "id": 3,
   "name": "Levee Lines",
   "parentLayerId": -1,
   "defaultVisibility": true,
   "subLayerIds": null,
   "minScale": 200000,
   "maxScale": 0,
   "type": "Feature Layer",
   "geometryType": "esriGeometryPolyline",
   "supportsDynamicLegends": true
  },
  {
   "id": 4,
   "name": "Profile Base Line",
   "parentLayerId": -1,
   "defaultVisibility": true,
   "subLayerIds": null,
   "minScale": 200000,
   "maxScale": 0,
   "type": "Feature Layer",
   "geometryType": "esriGeometryPolyline",
   "supportsDynamicLegends": true
  },
  {
   "id": 5,
   "name": "Cross Section Transect Line",
   "parentLayerId": -1,
   "defaultVisibility": true,
   "subLayerIds": null,
   "minScale": 200000,
   "maxScale": 0,
   "type": "Feature Layer",
   "geometryType": "esriGeometryPolyline",
   "supportsDynamicLegends": true
  },
  {
   "id": 6,
   "name": "Transect Base Line",
   "parentLayerId": -1,
   "defaultVisibility": true,
   "subLayerIds": null,
   "minScale": 200000,
   "maxScale": 0,
   "type": "Feature Layer",
   "geometryType": "esriGeometryPolyline",
   "supportsDynamicLegends": true
  },
  {
   "id": 7,
   "name": "FIRM Panels",
   "parentLayerId": -1,
   "defaultVisibility": true,
   "subLayerIds": null,
   "minScale": 200000,
   "maxScale": 0,
   "type": "Feature Layer",
   "geometryType": "esriGeometryPolygon",
   "supportsDynamicLegends": true
  },
  {
   "id": 8,
   "name": "PLSS Boundaries",
   "parentLayerId": -1,
   "defaultVisibility": true,
   "subLayerIds": null,
   "minScale": 200000,
   "maxScale": 0,
   "type": "Feature Layer",
   "geometryType": "esriGeometryPolygon",
   "supportsDynamicLegends": true
  },
  {
   "id": 9,
   "name": "Sub-basins",
   "parentLayerId": -1,
   "defaultVisibility": true,
   "subLayerIds": null,
   "minScale": 200000,
   "maxScale": 0,
   "type": "Feature Layer",
   "geometryType": "esriGeometryPolygon",
   "supportsDynamicLegends": true
  },
  {
   "id": 10,
   "name": "Flood Zones",
   "parentLayerId": -1,
   "defaultVisibility": true,
   "subLayerIds": null,
   "minScale": 200000,
   "maxScale": 0,
   "type": "Feature Layer",
   "geometryType": "esriGeometryPolygon",
   "supportsDynamicLegends": true
  },
  {
   "id": 11,
   "name": "Submittal Information",
   "parentLayerId": -1,
   "defaultVisibility": true,
   "subLayerIds": null,
   "minScale": 200000,
   "maxScale": 0,
   "type": "Feature Layer",
   "geometryType": "esriGeometryPolygon",
   "supportsDynamicLegends": true
  }
 ],
 "tables": [],
 "spatialReference": {
  "wkid": 102643,
  "latestWkid": 2227,
  "xyTolerance": 0.003280833333333333,
  "zTolerance": 0.001,
  "mTolerance": 0.001,
  "falseX": -115860600,
  "falseY": -93269500,
  "xyUnits": 3.678742734568671E7,
  "falseZ": -100000,
  "zUnits": 10000,
  "falseM": -100000,
  "mUnits": 10000
 },
 "singleFusedMapCache": true,
 "tileInfo": {
  "rows": 256,
  "cols": 256,
  "dpi": 96,
  "format": "PNG32",
  "compressionQuality": 0,
  "origin": {
   "x": -115860600,
   "y": 151575000
  },
  "spatialReference": {
   "wkid": 102643,
   "latestWkid": 2227,
   "xyTolerance": 0.003280833333333333,
   "zTolerance": 2,
   "mTolerance": 2,
   "falseX": -115860600,
   "falseY": -93269500,
   "xyUnits": 3.678742734568671E7,
   "falseZ": 0,
   "zUnits": 1,
   "falseM": -100000,
   "mUnits": 10000
  },
  "lods": [
   {
    "level": 0,
    "resolution": 217.01388888888889,
    "scale": 250000
   },
   {
    "level": 1,
    "resolution": 108.50694444444444,
    "scale": 125000
   },
   {
    "level": 2,
    "resolution": 55.55555555555555,
    "scale": 64000
   },
   {
    "level": 3,
    "resolution": 27.777777777777775,
    "scale": 32000
   },
   {
    "level": 4,
    "resolution": 13.888888888888888,
    "scale": 16000
   },
   {
    "level": 5,
    "resolution": 6.944444444444444,
    "scale": 8000
   },
   {
    "level": 6,
    "resolution": 3.472222222222222,
    "scale": 4000
   },
   {
    "level": 7,
    "resolution": 1.736111111111111,
    "scale": 2000
   },
   {
    "level": 8,
    "resolution": 0.8680555555555555,
    "scale": 1000
   },
   {
    "level": 9,
    "resolution": 0.43402777777777773,
    "scale": 500
   },
   {
    "level": 10,
    "resolution": 0.21701388888888887,
    "scale": 250
   }
  ]
 },
 "storageInfo": {
  "storageFormat": "esriMapCacheStorageModeCompactV2",
  "packetSize": 128
 },
 "initialExtent": {
  "xmin": 6066324.782342465,
  "ymin": 1990661.339105626,
  "xmax": 6101600.1263171425,
  "ymax": 2014130.5334741748,
  "spatialReference": {
   "wkid": 102643,
   "latestWkid": 2227,
   "xyTolerance": 0.003280833333333333,
   "zTolerance": 0.001,
   "mTolerance": 0.001,
   "falseX": -115860600,
   "falseY": -93269500,
   "xyUnits": 3.678742734568671E7,
   "falseZ": -100000,
   "zUnits": 10000,
   "falseM": -100000,
   "mUnits": 10000
  }
 },
 "fullExtent": {
  "xmin": 5964905.368843138,
  "ymin": 1850005.9541771412,
  "xmax": 6108799.867798969,
  "ymax": 2102125.3321552277,
  "spatialReference": {
   "wkid": 102643,
   "latestWkid": 2227,
   "xyTolerance": 0.003280833333333333,
   "zTolerance": 0.001,
   "mTolerance": 0.001,
   "falseX": -115860600,
   "falseY": -93269500,
   "xyUnits": 3.678742734568671E7,
   "falseZ": -100000,
   "zUnits": 10000,
   "falseM": -100000,
   "mUnits": 10000
  }
 },
 "datesInUnknownTimezone": false,
 "minScale": 250000,
 "maxScale": 250,
 "minLOD": 0,
 "maxLOD": 10,
 "units": "esriFeet",
 "supportedImageFormatTypes": "PNG32,PNG24,PNG,JPG,DIB,TIFF,EMF,PS,PDF,GIF,SVG,SVGZ,BMP",
 "documentInfo": {
  "Title": "Flood Zones",
  "Author": "",
  "Comments": "GCS_NAD_1983_NSRS2007\nWKID: 4759 Authority: EPSG",
  "Subject": "Coastal Zone Only, Feature layers from FEMA, WKID: 4759",
  "Category": "",
  "Version": "2.9.0",
  "AntialiasingMode": "Fast",
  "TextAntialiasingMode": "Force",
  "Keywords": "DFIRM,Flood Zones,City of Menlo Park,San Mateo County"
 },
 "supportsQueryDomains": true,
 "capabilities": "Map,Query,Data",
 "supportedQueryFormats": "JSON, geoJSON, PBF",
 "hasVersionedData": true,
 "exportTilesAllowed": false,
 "referenceScale": 0.0,
 "supportsDatumTransformation": true,
 "archivingInfo": {
  "supportsHistoricMoment": false
 },
 "supportsClipping": true,
 "supportsSpatialFilter": true,
 "supportsTimeRelation": true,
 "supportsQueryDataElements": true,
 "mapUnits": {
  "uwkid": 9003
 },
 "maxRecordCount": 2000,
 "maxImageHeight": 4096,
 "maxImageWidth": 4096,
 "supportedExtensions": "",
 "resampling": false,
 "serviceItemId": "eaa1613ed86a46f18dff0b48cc135b12"
}
